BEGIN:VCALENDAR
VERSION:2.0
PRODID:-//Zeeuws amateur wijnmakersgilde Luctor et Fermento - ECPv6.15.15//NONSGML v1.0//EN
CALSCALE:GREGORIAN
METHOD:PUBLISH
X-WR-CALNAME:Zeeuws amateur wijnmakersgilde Luctor et Fermento
X-ORIGINAL-URL:https://luctoretfermento.nl
X-WR-CALDESC:Evenementen voor Zeeuws amateur wijnmakersgilde Luctor et Fermento
REFRESH-INTERVAL;VALUE=DURATION:PT1H
X-Robots-Tag:noindex
X-PUBLISHED-TTL:PT1H
BEGIN:VTIMEZONE
TZID:Europe/Amsterdam
BEGIN:DAYLIGHT
TZOFFSETFROM:+0100
TZOFFSETTO:+0200
TZNAME:CEST
DTSTART:20240331T010000
END:DAYLIGHT
BEGIN:STANDARD
TZOFFSETFROM:+0200
TZOFFSETTO:+0100
TZNAME:CET
DTSTART:20241027T010000
END:STANDARD
BEGIN:DAYLIGHT
TZOFFSETFROM:+0100
TZOFFSETTO:+0200
TZNAME:CEST
DTSTART:20250330T010000
END:DAYLIGHT
BEGIN:STANDARD
TZOFFSETFROM:+0200
TZOFFSETTO:+0100
TZNAME:CET
DTSTART:20251026T010000
END:STANDARD
BEGIN:DAYLIGHT
TZOFFSETFROM:+0100
TZOFFSETTO:+0200
TZNAME:CEST
DTSTART:20260329T010000
END:DAYLIGHT
BEGIN:STANDARD
TZOFFSETFROM:+0200
TZOFFSETTO:+0100
TZNAME:CET
DTSTART:20261025T010000
END:STANDARD
END:VTIMEZONE
BEGIN:VEVENT
DTSTART;TZID=Europe/Amsterdam:20250807T193000
DTEND;TZID=Europe/Amsterdam:20250807T203000
DTSTAMP:20260419T191049
CREATED:20250115T133447Z
LAST-MODIFIED:20250119T155532Z
UID:675-1754595000-1754598600@luctoretfermento.nl
SUMMARY:Inloopavond
DESCRIPTION:
URL:https://luctoretfermento.nl/event/inloopavond-30/
LOCATION:Gildehuis\, Vroonlandseweg 140\, Kapelle\, 4421BX
CATEGORIES:Alle evenementen,Inloopavond
END:VEVENT
BEGIN:VEVENT
DTSTART;TZID=Europe/Amsterdam:20250807T193000
DTEND;TZID=Europe/Amsterdam:20250807T203000
DTSTAMP:20260419T191049
CREATED:20250115T133535Z
LAST-MODIFIED:20250119T154958Z
UID:692-1754595000-1754598600@luctoretfermento.nl
SUMMARY:SAM open
DESCRIPTION:
URL:https://luctoretfermento.nl/event/sam-open-39/
LOCATION:Gildehuis\, Vroonlandseweg 140\, Kapelle\, 4421BX
CATEGORIES:Alle evenementen,SAM open
END:VEVENT
BEGIN:VEVENT
DTSTART;TZID=Europe/Amsterdam:20250809T100000
DTEND;TZID=Europe/Amsterdam:20250809T170000
DTSTAMP:20260419T191049
CREATED:20250324T203940Z
LAST-MODIFIED:20250324T205121Z
UID:767-1754733600-1754758800@luctoretfermento.nl
SUMMARY:Presentatie op Burghse Dag
DESCRIPTION:
URL:https://luctoretfermento.nl/event/presentatie-op-burghse-dag/
LOCATION:Burghse dag\, 't Hoge Burgh\, Burgh-Haamstede\, 4328 LH\, Nederland
CATEGORIES:Alle evenementen,Gilde activiteit
END:VEVENT
BEGIN:VEVENT
DTSTART;TZID=Europe/Amsterdam:20250821T193000
DTEND;TZID=Europe/Amsterdam:20250821T203000
DTSTAMP:20260419T191049
CREATED:20250115T133535Z
LAST-MODIFIED:20250119T154958Z
UID:693-1755804600-1755808200@luctoretfermento.nl
SUMMARY:SAM open
DESCRIPTION:
URL:https://luctoretfermento.nl/event/sam-open-40/
LOCATION:Gildehuis\, Vroonlandseweg 140\, Kapelle\, 4421BX
CATEGORIES:Alle evenementen,SAM open
END:VEVENT
END:VCALENDAR