BEGIN:VCALENDAR
VERSION:2.0
PRODID:-//Zeeuws amateur wijnmakersgilde Luctor et Fermento - ECPv6.15.15//NONSGML v1.0//EN
CALSCALE:GREGORIAN
METHOD:PUBLISH
X-WR-CALNAME:Zeeuws amateur wijnmakersgilde Luctor et Fermento
X-ORIGINAL-URL:https://luctoretfermento.nl
X-WR-CALDESC:Evenementen voor Zeeuws amateur wijnmakersgilde Luctor et Fermento
REFRESH-INTERVAL;VALUE=DURATION:PT1H
X-Robots-Tag:noindex
X-PUBLISHED-TTL:PT1H
BEGIN:VTIMEZONE
TZID:Europe/Amsterdam
BEGIN:DAYLIGHT
TZOFFSETFROM:+0100
TZOFFSETTO:+0200
TZNAME:CEST
DTSTART:20230326T010000
END:DAYLIGHT
BEGIN:STANDARD
TZOFFSETFROM:+0200
TZOFFSETTO:+0100
TZNAME:CET
DTSTART:20231029T010000
END:STANDARD
BEGIN:DAYLIGHT
TZOFFSETFROM:+0100
TZOFFSETTO:+0200
TZNAME:CEST
DTSTART:20240331T010000
END:DAYLIGHT
BEGIN:STANDARD
TZOFFSETFROM:+0200
TZOFFSETTO:+0100
TZNAME:CET
DTSTART:20241027T010000
END:STANDARD
BEGIN:DAYLIGHT
TZOFFSETFROM:+0100
TZOFFSETTO:+0200
TZNAME:CEST
DTSTART:20250330T010000
END:DAYLIGHT
BEGIN:STANDARD
TZOFFSETFROM:+0200
TZOFFSETTO:+0100
TZNAME:CET
DTSTART:20251026T010000
END:STANDARD
END:VTIMEZONE
BEGIN:VEVENT
DTSTART;TZID=Europe/Amsterdam:20241107T190000
DTEND;TZID=Europe/Amsterdam:20241107T203000
DTSTAMP:20260419T191706
CREATED:20240614T105744Z
LAST-MODIFIED:20240622T100257Z
UID:158-1731006000-1731011400@luctoretfermento.nl
SUMMARY:SAM open
DESCRIPTION:
URL:https://luctoretfermento.nl/event/sam-open-21/
LOCATION:Gildehuis\, Vroonlandseweg 140\, Kapelle\, 4421BX
CATEGORIES:Alle evenementen,SAM open
END:VEVENT
BEGIN:VEVENT
DTSTART;TZID=Europe/Amsterdam:20241107T193000
DTEND;TZID=Europe/Amsterdam:20241107T203000
DTSTAMP:20260419T191706
CREATED:20240614T103907Z
LAST-MODIFIED:20240622T103555Z
UID:102-1731007800-1731011400@luctoretfermento.nl
SUMMARY:Inloopavond
DESCRIPTION:
URL:https://luctoretfermento.nl/event/inloopavond-10/
LOCATION:Gildehuis\, Vroonlandseweg 140\, Kapelle\, 4421BX
CATEGORIES:Alle evenementen,Inloopavond
END:VEVENT
END:VCALENDAR