BEGIN:VCALENDAR
VERSION:2.0
PRODID:-//Zeeuws amateur wijnmakersgilde Luctor et Fermento - ECPv6.15.15//NONSGML v1.0//EN
CALSCALE:GREGORIAN
METHOD:PUBLISH
X-ORIGINAL-URL:https://luctoretfermento.nl
X-WR-CALDESC:Evenementen voor Zeeuws amateur wijnmakersgilde Luctor et Fermento
REFRESH-INTERVAL;VALUE=DURATION:PT1H
X-Robots-Tag:noindex
X-PUBLISHED-TTL:PT1H
BEGIN:VTIMEZONE
TZID:Europe/Amsterdam
BEGIN:DAYLIGHT
TZOFFSETFROM:+0100
TZOFFSETTO:+0200
TZNAME:CEST
DTSTART:20230326T010000
END:DAYLIGHT
BEGIN:STANDARD
TZOFFSETFROM:+0200
TZOFFSETTO:+0100
TZNAME:CET
DTSTART:20231029T010000
END:STANDARD
BEGIN:DAYLIGHT
TZOFFSETFROM:+0100
TZOFFSETTO:+0200
TZNAME:CEST
DTSTART:20240331T010000
END:DAYLIGHT
BEGIN:STANDARD
TZOFFSETFROM:+0200
TZOFFSETTO:+0100
TZNAME:CET
DTSTART:20241027T010000
END:STANDARD
BEGIN:DAYLIGHT
TZOFFSETFROM:+0100
TZOFFSETTO:+0200
TZNAME:CEST
DTSTART:20250330T010000
END:DAYLIGHT
BEGIN:STANDARD
TZOFFSETFROM:+0200
TZOFFSETTO:+0100
TZNAME:CET
DTSTART:20251026T010000
END:STANDARD
END:VTIMEZONE
BEGIN:VEVENT
DTSTART;TZID=Europe/Amsterdam:20241114T193000
DTEND;TZID=Europe/Amsterdam:20241114T220000
DTSTAMP:20260421T102305
CREATED:20240614T104118Z
LAST-MODIFIED:20240622T111659Z
UID:110-1731612600-1731621600@luctoretfermento.nl
SUMMARY:Beginnerscursus wijnmaken (7e dag)
DESCRIPTION:
URL:https://luctoretfermento.nl/event/beginnerscursus-wijnmaken-7e-dag/
LOCATION:Gildehuis\, Vroonlandseweg 140\, Kapelle\, 4421BX
CATEGORIES:Alle evenementen,Cursus
END:VEVENT
END:VCALENDAR