BEGIN:VCALENDAR
VERSION:2.0
PRODID:-//Zeeuws amateur wijnmakersgilde Luctor et Fermento - ECPv6.15.15//NONSGML v1.0//EN
CALSCALE:GREGORIAN
METHOD:PUBLISH
X-ORIGINAL-URL:https://luctoretfermento.nl
X-WR-CALDESC:Evenementen voor Zeeuws amateur wijnmakersgilde Luctor et Fermento
REFRESH-INTERVAL;VALUE=DURATION:PT1H
X-Robots-Tag:noindex
X-PUBLISHED-TTL:PT1H
BEGIN:VTIMEZONE
TZID:Europe/Amsterdam
BEGIN:DAYLIGHT
TZOFFSETFROM:+0100
TZOFFSETTO:+0200
TZNAME:CEST
DTSTART:20240331T010000
END:DAYLIGHT
BEGIN:STANDARD
TZOFFSETFROM:+0200
TZOFFSETTO:+0100
TZNAME:CET
DTSTART:20241027T010000
END:STANDARD
BEGIN:DAYLIGHT
TZOFFSETFROM:+0100
TZOFFSETTO:+0200
TZNAME:CEST
DTSTART:20250330T010000
END:DAYLIGHT
BEGIN:STANDARD
TZOFFSETFROM:+0200
TZOFFSETTO:+0100
TZNAME:CET
DTSTART:20251026T010000
END:STANDARD
BEGIN:DAYLIGHT
TZOFFSETFROM:+0100
TZOFFSETTO:+0200
TZNAME:CEST
DTSTART:20260329T010000
END:DAYLIGHT
BEGIN:STANDARD
TZOFFSETFROM:+0200
TZOFFSETTO:+0100
TZNAME:CET
DTSTART:20261025T010000
END:STANDARD
END:VTIMEZONE
BEGIN:VEVENT
DTSTART;TZID=Europe/Amsterdam:20250220T193000
DTEND;TZID=Europe/Amsterdam:20250220T203000
DTSTAMP:20260419T135528
CREATED:20250115T133444Z
LAST-MODIFIED:20250324T202004Z
UID:669-1740079800-1740083400@luctoretfermento.nl
SUMMARY:Inloopavond
DESCRIPTION:Beste wijnvrienden\,We krijgen er veel vragen over en ook op de cursus zien we ieder jaar weer dat zuur en SG meten (en berekenen) best lastig is. \n\n\n\nZuur en SG meten… \n\n\n\nKomende donderdag avond gaan we op ons gemak “hands on” \n\n\n\n\n– Zuur meten.\n\n\n\n– SG meten.\n\n\n\n– Uitrekenen hoeveel alcohol we hebben.\n\n\n\n– Uitreken hoeveel suiker we evt. moeten toevoegen. \n\n\n\n\nWij zorgen (naast de koffie) voor de meetwijn.Breng zelf je meet materialen en cursusboek/tabel mee (we hebben wat reserve materiaal op het gilde)Tot donderdag 19:30 in het gilde lokaal! \n\n\n\nConny en Marcel
URL:https://luctoretfermento.nl/event/inloopavond-24/
LOCATION:Gildehuis\, Vroonlandseweg 140\, Kapelle\, 4421BX
CATEGORIES:Alle evenementen,Inloopavond
END:VEVENT
END:VCALENDAR