BEGIN:VCALENDAR
VERSION:2.0
PRODID:-//Zeeuws amateur wijnmakersgilde Luctor et Fermento - ECPv6.15.15//NONSGML v1.0//EN
CALSCALE:GREGORIAN
METHOD:PUBLISH
X-WR-CALNAME:Zeeuws amateur wijnmakersgilde Luctor et Fermento
X-ORIGINAL-URL:https://luctoretfermento.nl
X-WR-CALDESC:Evenementen voor Zeeuws amateur wijnmakersgilde Luctor et Fermento
REFRESH-INTERVAL;VALUE=DURATION:PT1H
X-Robots-Tag:noindex
X-PUBLISHED-TTL:PT1H
BEGIN:VTIMEZONE
TZID:Europe/Amsterdam
BEGIN:DAYLIGHT
TZOFFSETFROM:+0100
TZOFFSETTO:+0200
TZNAME:CEST
DTSTART:20240331T010000
END:DAYLIGHT
BEGIN:STANDARD
TZOFFSETFROM:+0200
TZOFFSETTO:+0100
TZNAME:CET
DTSTART:20241027T010000
END:STANDARD
BEGIN:DAYLIGHT
TZOFFSETFROM:+0100
TZOFFSETTO:+0200
TZNAME:CEST
DTSTART:20250330T010000
END:DAYLIGHT
BEGIN:STANDARD
TZOFFSETFROM:+0200
TZOFFSETTO:+0100
TZNAME:CET
DTSTART:20251026T010000
END:STANDARD
BEGIN:DAYLIGHT
TZOFFSETFROM:+0100
TZOFFSETTO:+0200
TZNAME:CEST
DTSTART:20260329T010000
END:DAYLIGHT
BEGIN:STANDARD
TZOFFSETFROM:+0200
TZOFFSETTO:+0100
TZNAME:CET
DTSTART:20261025T010000
END:STANDARD
END:VTIMEZONE
BEGIN:VEVENT
DTSTART;TZID=Europe/Amsterdam:20251004T130000
DTEND;TZID=Europe/Amsterdam:20251004T170000
DTSTAMP:20260423T150607
CREATED:20250628T221344Z
LAST-MODIFIED:20250628T221348Z
UID:833-1759582800-1759597200@luctoretfermento.nl
SUMMARY:Presentatie Hollandsche Hoevedag
DESCRIPTION:De Hollandsche Hoeve is altijd leuk om te bezoeken (wie komt er nou niet graag in een natuurgebied met én een kinderboerderij én een geweldig leuke speeltuin). Op 5 oktober is het nóg leuker. Dan kunnen kinderen ’s middags aan allerlei activiteiten meedoen zoals pannenkoeken bakken met de scouting\, varen met modelbootjes\, zaadbommen maken\, meedoen met Circus Bolo\, klimmen op de klimwand\, kanoën in de vijver\, jeu de boules spelen\, rondspringen op de springkussens en nog veel meer.  \n\n\n\nMeer? Ja\, zoals een presentatie van ons Gilde
URL:https://luctoretfermento.nl/event/presentatie-hollandsche-hoevedag/
LOCATION:Hollandse hoeve\, Goes\, Kattendijksedijk 27\, GOES\, 4463 AL
CATEGORIES:Alle evenementen,Gilde activiteit
END:VEVENT
END:VCALENDAR